BEGIN:VCALENDAR
VERSION:2.0
PRODID:-//eventon.com NONSGML v1.0//EN
CALSCALE:GREGORIAN
METHOD:PUBLISH
BEGIN:VEVENT
UID:69e9ddeadcc1f
DTSTAMP:20260423T085258Z
DTSTART:20200202T160000Z
DTEND:20200202T235000Z
LOCATION:Grantham West Community Centre Trent Road Grantham Lincolnshire NG31 7XQ
SUMMARY:Meal before Family Church
DESCRIPTION:Meal before Family Church\nhttps://www.earlesfield.org/events/m
 eal-before-family-church-7/
URL:https://www.earlesfield.org/events/meal-before-family-church-7/
END:VEVENT
END:VCALENDAR